BEGIN:VCALENDAR
VERSION:2.0
PRODID:-//Tukios.com/
BEGIN:VEVENT
UID:33286f2e-ab28-4d67-b53e-e130de526fe4@www.kranzfuneralhome.com
DTSTAMP:20260422T020230Z
DTSTART:20260424T180000Z
DTEND:20260424T190000Z
SUMMARY:Visitation
DESCRIPTION:
URL:https://www.kranzfuneralhome.com/obituaries/charles-chuck-black
LOCATION: 6850 Main St  Cass City MI 48726
GEO:43.6005511;-83.1624714
END:VEVENT
END:VCALENDAR