BEGIN:VCALENDAR
VERSION:2.0
PRODID:-//Tukios.com/
BEGIN:VEVENT
UID:f603ebd3-f8c2-4f2b-8f54-d9fb9dd3d6d1@www.kranzfuneralhome.com
DTSTAMP:20260422T020051Z
DTSTART:20260424T190000Z
DTEND:20260424T200000Z
SUMMARY:Funeral Service
DESCRIPTION:
URL:https://www.kranzfuneralhome.com/obituaries/charles-chuck-black
LOCATION: 6850 Main St  Cass City MI 48726
GEO:43.6005511;-83.1624714
END:VEVENT
END:VCALENDAR