BEGIN:VCALENDAR
VERSION:2.0
PRODID:-//Tukios.com/
BEGIN:VEVENT
UID:a083f66d-0728-4324-8043-f4b97e38e142@www.kranzfuneralhome.com
DTSTAMP:20260422T020338Z
DTSTART:20260424
SUMMARY:Burial
DESCRIPTION:
URL:https://www.kranzfuneralhome.com/obituaries/charles-chuck-black
LOCATION: 6897 Cass City Rd  Cass City MI 48726
GEO:43.6007945;-83.1560953
END:VEVENT
END:VCALENDAR