BEGIN:VCALENDAR
VERSION:2.0
PRODID:-//Tukios.com/
BEGIN:VEVENT
UID:7926c6b1-865b-425a-89b2-9cbb3821e960@www.kranzfuneralhome.com
DTSTAMP:20260422T201702Z
DTSTART:20260427T150000Z
DTEND:20260427T160000Z
SUMMARY:Memorial Service
DESCRIPTION:
URL:https://www.kranzfuneralhome.com/obituaries/gary-wilson
LOCATION:First Baptist Church of Cass City 6420 Houghton St  Cass City MI 
	48726
GEO:43.5986378;-83.1763578
END:VEVENT
END:VCALENDAR