BEGIN:VCALENDAR
VERSION:2.0
PRODID:-//Tukios.com/
BEGIN:VEVENT
UID:815b0b3f-6575-425a-8040-c87c36685c25@www.kranzfuneralhome.com
DTSTAMP:20260422T002706Z
DTSTART:20260430T190000Z
DTEND:20260430T230000Z
SUMMARY:Visitation
DESCRIPTION:
URL:https://www.kranzfuneralhome.com/obituaries/marlyn-reehl
LOCATION:Dayton Center Church 3633 Phelps Lake Rd  Silverwood MI 48760
GEO:43.3674373;-83.2785921
END:VEVENT
END:VCALENDAR