BEGIN:VCALENDAR
VERSION:2.0
PRODID:-//Tukios.com/
BEGIN:VEVENT
UID:4f98cbfd-03e1-4c27-ad54-54dddc32ff5e@www.kranzfuneralhome.com
DTSTAMP:20260422T002657Z
DTSTART:20260501T180000Z
DTEND:20260501T190000Z
SUMMARY:Funeral Service
DESCRIPTION:
URL:https://www.kranzfuneralhome.com/obituaries/marlyn-reehl
LOCATION:Dayton Center Church 3633 Phelps Lake Rd  Silverwood MI 48760
GEO:43.3674373;-83.2785921
END:VEVENT
END:VCALENDAR