BEGIN:VCALENDAR
VERSION:2.0
PRODID:-//Tukios.com/
BEGIN:VEVENT
UID:c4be208d-0d5d-4be5-9a70-16145da2a481@www.kranzfuneralhome.com
DTSTAMP:20260422T002547Z
DTSTART:20260501T170000Z
DTEND:20260501T180000Z
SUMMARY:Visitation
DESCRIPTION:
URL:https://www.kranzfuneralhome.com/obituaries/marlyn-reehl
LOCATION:Dayton Center Church 3633 Phelps Lake Rd  Silverwood MI 48760
GEO:43.3674373;-83.2785921
END:VEVENT
END:VCALENDAR