BEGIN:VCALENDAR
VERSION:2.0
PRODID:-//Tukios.com/
BEGIN:VEVENT
UID:c39c49a2-af09-4aa1-a402-337368d6a3d5@www.kranzfuneralhome.com
DTSTAMP:20260422T002517Z
DTSTART:20260501
SUMMARY:Burial
DESCRIPTION:
URL:https://www.kranzfuneralhome.com/obituaries/marlyn-reehl
LOCATION: 9711-9665 Rich Rd  Mayville MI 48744
GEO:43.312803;-83.3368785
END:VEVENT
END:VCALENDAR